Workbook

Sheet Exceptions Register
A3: Organisation Name:
A5: Item | B5: ODS Code | C5: Application / Service Name | D5: 3rd Party Supplier if applicable | E5: Internet Facing | F5: Hosting | G5: Exception applied? | H5: Remarks | I5: Exception Review Date | J5: Mitigation Plan (Free Text on controls applied) | K5: Blockers To Removal of Exception
A7: 1 | E7: Select one…. | F7: Select one… | G7: Select one… | H7: =_xlfn.XLOOKUP('Exceptions Register'!G7,Sources!H5:H11,Sources!I5:I11) -> #N/A
A8: 2 | E8: Select one…. | F8: Select one… | G8: Select one… | H8: =_xlfn.XLOOKUP('Exceptions Register'!G8,Sources!H6:H12,Sources!I6:I12) -> #N/A
A9: 3 | E9: Select one…. | F9: Select one… | G9: Select one… | H9: =_xlfn.XLOOKUP('Exceptions Register'!G9,Sources!H7:H13,Sources!I7:I13) -> #N/A
A10: 4 | E10: Select one…. | F10: Select one… | G10: Select one… | H10: =_xlfn.XLOOKUP('Exceptions Register'!G10,Sources!H8:H14,Sources!I8:I14) -> #N/A
A11: 5 | E11: Select one…. | F11: Select one… | G11: Select one… | H11: =_xlfn.XLOOKUP('Exceptions Register'!G11,Sources!H9:H15,Sources!I9:I15) -> #N/A
A12: 6 | E12: Select one…. | F12: Select one… | G12: Select one… | H12: =_xlfn.XLOOKUP('Exceptions Register'!G12,Sources!H10:H16,Sources!I10:I16) -> #N/A
A13: 7 | E13: Select one…. | F13: Select one… | G13: Select one… | H13: =_xlfn.XLOOKUP('Exceptions Register'!G13,Sources!H11:H17,Sources!I11:I17) -> #N/A
A14: 8 | E14: Select one…. | F14: Select one… | G14: Select one… | H14: =_xlfn.XLOOKUP('Exceptions Register'!G14,Sources!H12:H18,Sources!I12:I18) -> #N/A
A15: 9 | E15: Select one…. | F15: Select one… | G15: Select one… | H15: =_xlfn.XLOOKUP('Exceptions Register'!G15,Sources!H13:H19,Sources!I13:I19) -> #N/A
A16: 10 | E16: Select one…. | F16: Select one… | G16: Select one… | H16: =_xlfn.XLOOKUP('Exceptions Register'!G16,Sources!H14:H20,Sources!I14:I20) -> #N/A
A17: 11 | E17: Select one…. | F17: Select one… | G17: Select one… | H17: =_xlfn.XLOOKUP('Exceptions Register'!G17,Sources!H15:H21,Sources!I15:I21) -> #N/A
A18: 12 | E18: Select one…. | F18: Select one… | G18: Select one… | H18: =_xlfn.XLOOKUP('Exceptions Register'!G18,Sources!H16:H22,Sources!I16:I22) -> #N/A
... A56: 50 | E56: Select one…. | F56: Select one… | G56: Select one… | H56: =_xlfn.XLOOKUP('Exceptions Register'!G56,Sources!H54:H60,Sources!I54:I60) -> #N/A

Sheet Sources
B2: Application / Service Name | C2: 3rd Party Supplier if applicable | D2: Information Asset Owner | E2: Internet Facing | F2: Clinical Impact | G2: Hosting | H2: Exception applied? | I2: Remarks | J2: Exception Review Date | K2: Mitigation Plan | L2: Blockers To Removal of Exception
E4: Select one…. | F4: Select one…. | G4: Select one…. | H4: Select one…
E5: Yes | F5: Low | G5: On Premise | H5: 1. Unprivileged user account access from within the organisation’s trusted corporate network | I5: MFA is required for all user access originating outside the trusted corporate network
E6: No | F6: Med | G6: Cloud | H6: 2. Access to a system to which the same user has previously authenticated with MFA from the same device | I6: MFA enforced on first access; user may then subsequently access the same system from the same device without MFA, for an organisation-defined period of time (session management)
F7: High | G7: 3rd Party - e.g another Trust | H7: 3. Accounts used solely by patients or people in care | I7: Not in scope of this policy. DCB3051 establishes standards for identify verification and authentication for patients and service users
H8: 4. Accounts used by staff with disabilities that make MFA unusable | I8: Consider disabilities equality as part of implementation planning and choice of factors
H9: 5. Access from specific trusted physical locations | I9: Such as access from prisons and other sites with specific restrictions and compensating controls
H10: 6. Systems that cannot support any form of MFA | I10: Federated authentication with an MFA-capable system is considered 'supporting MFA'
H11: 7. Situations in which MFA would create disproportionate clinical or operational risk or difficulty | I11: Organisations must consider alternative controls and mitigations for the security risk
