Workbook
Name EPICSYSTEMSCORP: #REF!
Name EPMA: #REF!
Name ERostering: #REF!
Name Scoring: #REF!+#REF!
Name Supplier: #REF!
Name SystemCategories: #REF!

Sheet Cover Page
B8: Document Purpose
B9: This is a standard template that has been designed to identify essential functions within your healthcare organisation. This document shared with you is Traffic Light Protocol (TLP): AMBER and OFFICIAL SENSITIVE. It is intended for information purposes solely to the recipient(s) and not for wider sharing. Please do not share this document wider. If you would like further information, please contact https://www.dsptoolkit.nhs.uk/Home/Contact
B11: Template for scoping essential functions
B12: Programme | C12: Cyber Security Improvement Programme | D12: Document Record ID Key
B13: Sub-Prog / Project | C13: DSPT
B14: Prog. Director | C14: Phil Huggins | D14: Status | E14: Beta
B15: Owner | C15: Natasha Langford | D15: Version | E15: 0.1
B16: Author | C16: DSPT Service Desk | D16: Version Date | E16: 45860
B18: Copyright © 2018, Health and Social Care Information Centre. NHS Digital is the trading name of the Health and Social Care Information Centre.All Rights Reserved.

Sheet Home Page
B2: Template for Scoping Essential Functions
B4: Introduction
B5: The template in this document have been created to help CAF-aligned DSPT organisations think about and scope their essential functions. For further information on essential functions, see link to the scoping essential functions page on the NHS England website:
B6: Scoping essential functions - NHS England Digital
B8: Step 1:
B9: Lead Contact Name
B10: Lead Contact Email Address
B11: Date of Completion
B13: Step 2:
B14: Organisation Type | D14: Select from Drop Down
B15: Organisation Name
B16: ODS Code
B18: Step 3: | C18: Provide details of your essential functions:
C19: Functions Template
C20: Please utilise our guidance if required:
C21: Guidance
B22: Number of Functions Complete | C22: ='Functions Template'!D4 -> 0
B23: Number of Functions Incomplete | C23: ='Functions Template'!D6 -> 0
B25: Step 4: | C25: Upload completed template to DSPT

Sheet Guidance
B2: Guidance for completion of Functions Template
B4: The Functions template contains the fields below. Anything with a grey header is a drop down option. If the option required is not there, select "Other" and compete the details in the blue free text column. If the blue free text box is greyed out then no further information is needed. Complete the template by categorising functions within your organisation, assess whether or not those functions support essential services, and then list the information, systems or networks which support those functions. Additional columns on suppliers have been added to standardise the collection of information on third party involvement in delivering essential functions. If there are multiple suppliers for a function, copy and paste the line for the function and add the supplier names in separately. An example of the template, completed with dummy data, is below.
B6: Number | C6: Field Header | E6: Description | H6: Type
B7: 1 | C7: Function Category (Mandatory) | E7: Select the primary category of the essential function from the drop down list. If the essential function is not present select Other | H7: Drop down list
B8: 2 | C8: If "Other", name of Function | E8: Name of function if it is not present in the function category drop down list. | H8: Free Text
B9: 3 | C9: Function description (Mandatory) | E9: Provide more detail of the function selected, such as | H9: Free Text
B10: 5 | C10: Information, system or network name (Mandatory) | E10: Details of any information, system or network name, for example, contracts management system, Electronic patient record, pharmacy management software, x-ray machines. | H10: Free Text
B11: 6 | C11: Essential function [Yes/No] (Mandatory) | E11: Whether this function is essential or not | H11: Drop down list
B12: 7 | C12: Supplier Name (Other if not present) (Mandatory) | E12: Drop down of suppliers. Start typing the name of the supplier to narrow the list. Please note when searching for supplier names in the drop down list, they may be referred to in their full company name rather than colloquial / product name. If you are unable to find the supplier in the drop down list enter Other and add the supplier name please enter as free text in the 'Other' column. | H12: Drop down list
B13: 8 | C13: If "Other", name of Supplier | E13: Name of supplier, if not present within the supplier drop down | H13: Free Text
B14: 9 | C14: Further information (optional) | E14: Any additional information that is useful to know, e.g. if a supplier is being replaced, or the function is ceasing to exist after a certain date. | H14: Free Text
B15: 10 | C15: Corresponding IAFR asset reference [if applicable] | E15: Any corresponding IAFR Asset number | H15: Free Text
B16: 11 | C16: Does the information, system, or network contain personal data? [Yes/No] (Mandatory) | E16: Yes or No response | H16: Drop down list
B17: 12 | C17: Could a failure or attack have a spread or cascade effect across other services? [Yes/No] (Mandatory) | E17: Yes or No response | H17: Drop down list | AB17: DSPT SCOPING ASSESSMENT
B18: 13 | C18: Should the information, system or network be included in the scope for the DSPT? [Yes/No] (Mandatory) | E18: Yes or No response | H18: Drop down list
B20: Example
B21: Below is an example of the data completion on the Essential Functions sheet (this is dummy data). The key outlines the colours related to the headers. Anything with a grey header is a drop down option. If the option required is not there, select "Other" and compete the details in the blue free text column. If the blue free text box is greyed out then not further information is needed. The headers identify which fields are mandatory. Check the number of Functions that are incomplete (in red, below the number of functions complete, surrounded by a black box) to identify whether any of your submissions need further information added. Optional fields will not appear as incomplete. For those individuals who are not colour blind the incomplete boxes do appear in another colour to identify which are incomplete.
B22: Tips for completion:
B23: *Either use the drop downs or begin to type the word to complete. Copy and Paste is also available to help with completion.
B24: *For multiple suppliers for an Essential Function, please add in additional rows
B25: *For services / systems that impact multiple functions e.g. EPR systems, please only record once in the form
B26: *Please note when searching for supplier names in the drop down list, they may be referred to in their full company name rather than colloquial / product name. If you are unable to find the supplier in the drop down list please enter as free text in the 'Other' column.
B48: If you need to unlock the template the password is dspt2025

Sheet Functions Template
B2: Functions | F2: Key:
G3: Drop down options
B4: Number of Functions Complete | D4: =SUM(S10:S59)-D6 -> 0 | G4: Free text field
G5: Free text not required
B6: Number of Functions Incomplete | D6: =SUM(U10:U59) -> 0 | G6: Incomplete Submission
O8: Hide Column | P8: Hide Column | Q8: Hide Column | R8: Hide Column | S8: Hide Column | T8: Hide Column | U8: Hide Column
B9: Number | C9: Function Category (Mandatory) | D9: If "Other", name of Function | E9: Function description (Mandatory) | F9: Information, system or network name (Mandatory) | G9: Essential function [Yes/No] (Mandatory) | H9: Supplier Name (Other if not present) (Mandatory) | I9: If "Other", name of Supplier | J9: Further information (optional) | K9: Corresponding IAFR asset reference [if applicable] | L9: Does the information, system, or network contain personal data? [Yes/No] (Mandatory) | M9: Could a failure or attack have a spread or cascade effect across other services? [Yes/No] (Mandatory) | N9: Should the information, system or network be included in the scope for the DSPT? [Yes/No] (Mandatory) | O9: Organisation Type | P9: Organisation Name | Q9: ODS Code | R9: Final Function | S9: Conditional Formatting | T9: Missing Fields | U9: Incomplete
B10: 1 | O10: =IF($C10<>"",'Home Page'!$C$14,"") | P10: =IF($C10<>"",'Home Page'!$C$15,"") | Q10: =IF($C10<>"",'Home Page'!$C$16,"") | R10: =IF(C10="Other",D10,I10) -> 0 | S10: =IF(C10<>"",1,IF(N10<>"",1,IF(E10<>"",1,IF(F10<>"",1,IF(G10<>"",1,IF(H10<>"",1,IF(L10<>"",1,IF(M10<>"",1,0)))))))) -> 0 | T10: =IF(OR(C10="",E10="",M10="",F10="",G10="",L10="",H10="",N10=""),1,0) -> 1 | U10: =IF(AND(S10=1,T10=1),1,0) -> 0
B11: 2 | O11: =IF($C11<>"",'Home Page'!$C$14,"") | P11: =IF($C11<>"",'Home Page'!$C$15,"") | Q11: =IF($C11<>"",'Home Page'!$C$16,"") | R11: =IF(C11="Other",D11,I11) -> 0 | S11: =IF(C11<>"",1,IF(N11<>"",1,IF(E11<>"",1,IF(F11<>"",1,IF(G11<>"",1,IF(H11<>"",1,IF(L11<>"",1,IF(M11<>"",1,0)))))))) -> 0 | T11: =IF(OR(C11="",E11="",M11="",F11="",G11="",L11="",H11="",N11=""),1,0) -> 1 | U11: =IF(AND(S11=1,T11=1),1,0) -> 0
B12: 3 | O12: =IF($C12<>"",'Home Page'!$C$14,"") | P12: =IF($C12<>"",'Home Page'!$C$15,"") | Q12: =IF($C12<>"",'Home Page'!$C$16,"") | R12: =IF(C12="Other",D12,I12) -> 0 | S12: =IF(C12<>"",1,IF(N12<>"",1,IF(E12<>"",1,IF(F12<>"",1,IF(G12<>"",1,IF(H12<>"",1,IF(L12<>"",1,IF(M12<>"",1,0)))))))) -> 0 | T12: =IF(OR(C12="",E12="",M12="",F12="",G12="",L12="",H12="",N12=""),1,0) -> 1 | U12: =IF(AND(S12=1,T12=1),1,0) -> 0
B13: 4 | O13: =IF($C13<>"",'Home Page'!$C$14,"") | P13: =IF($C13<>"",'Home Page'!$C$15,"") | Q13: =IF($C13<>"",'Home Page'!$C$16,"") | R13: =IF(C13="Other",D13,I13) -> 0 | S13: =IF(C13<>"",1,IF(N13<>"",1,IF(E13<>"",1,IF(F13<>"",1,IF(G13<>"",1,IF(H13<>"",1,IF(L13<>"",1,IF(M13<>"",1,0)))))))) -> 0 | T13: =IF(OR(C13="",E13="",M13="",F13="",G13="",L13="",H13="",N13=""),1,0) -> 1 | U13: =IF(AND(S13=1,T13=1),1,0) -> 0
B14: 5 | O14: =IF($C14<>"",'Home Page'!$C$14,"") | P14: =IF($C14<>"",'Home Page'!$C$15,"") | Q14: =IF($C14<>"",'Home Page'!$C$16,"") | R14: =IF(C14="Other",D14,I14) -> 0 | S14: =IF(C14<>"",1,IF(N14<>"",1,IF(E14<>"",1,IF(F14<>"",1,IF(G14<>"",1,IF(H14<>"",1,IF(L14<>"",1,IF(M14<>"",1,0)))))))) -> 0 | T14: =IF(OR(C14="",E14="",M14="",F14="",G14="",L14="",H14="",N14=""),1,0) -> 1 | U14: =IF(AND(S14=1,T14=1),1,0) -> 0
B15: 6 | O15: =IF($C15<>"",'Home Page'!$C$14,"") | P15: =IF($C15<>"",'Home Page'!$C$15,"") | Q15: =IF($C15<>"",'Home Page'!$C$16,"") | R15: =IF(C15="Other",D15,I15) -> 0 | S15: =IF(C15<>"",1,IF(N15<>"",1,IF(E15<>"",1,IF(F15<>"",1,IF(G15<>"",1,IF(H15<>"",1,IF(L15<>"",1,IF(M15<>"",1,0)))))))) -> 0 | T15: =IF(OR(C15="",E15="",M15="",F15="",G15="",L15="",H15="",N15=""),1,0) -> 1 | U15: =IF(AND(S15=1,T15=1),1,0) -> 0
B16: 7 | O16: =IF($C16<>"",'Home Page'!$C$14,"") | P16: =IF($C16<>"",'Home Page'!$C$15,"") | Q16: =IF($C16<>"",'Home Page'!$C$16,"") | R16: =IF(C16="Other",D16,I16) -> 0 | S16: =IF(C16<>"",1,IF(N16<>"",1,IF(E16<>"",1,IF(F16<>"",1,IF(G16<>"",1,IF(H16<>"",1,IF(L16<>"",1,IF(M16<>"",1,0)))))))) -> 0 | T16: =IF(OR(C16="",E16="",M16="",F16="",G16="",L16="",H16="",N16=""),1,0) -> 1 | U16: =IF(AND(S16=1,T16=1),1,0) -> 0
B17: 8 | O17: =IF($C17<>"",'Home Page'!$C$14,"") | P17: =IF($C17<>"",'Home Page'!$C$15,"") | Q17: =IF($C17<>"",'Home Page'!$C$16,"") | R17: =IF(C17="Other",D17,I17) -> 0 | S17: =IF(C17<>"",1,IF(N17<>"",1,IF(E17<>"",1,IF(F17<>"",1,IF(G17<>"",1,IF(H17<>"",1,IF(L17<>"",1,IF(M17<>"",1,0)))))))) -> 0 | T17: =IF(OR(C17="",E17="",M17="",F17="",G17="",L17="",H17="",N17=""),1,0) -> 1 | U17: =IF(AND(S17=1,T17=1),1,0) -> 0
B18: 9 | O18: =IF($C18<>"",'Home Page'!$C$14,"") | P18: =IF($C18<>"",'Home Page'!$C$15,"") | Q18: =IF($C18<>"",'Home Page'!$C$16,"") | R18: =IF(C18="Other",D18,I18) -> 0 | S18: =IF(C18<>"",1,IF(N18<>"",1,IF(E18<>"",1,IF(F18<>"",1,IF(G18<>"",1,IF(H18<>"",1,IF(L18<>"",1,IF(M18<>"",1,0)))))))) -> 0 | T18: =IF(OR(C18="",E18="",M18="",F18="",G18="",L18="",H18="",N18=""),1,0) -> 1 | U18: =IF(AND(S18=1,T18=1),1,0) -> 0
B19: 10 | O19: =IF($C19<>"",'Home Page'!$C$14,"") | P19: =IF($C19<>"",'Home Page'!$C$15,"") | Q19: =IF($C19<>"",'Home Page'!$C$16,"") | R19: =IF(C19="Other",D19,I19) -> 0 | S19: =IF(C19<>"",1,IF(N19<>"",1,IF(E19<>"",1,IF(F19<>"",1,IF(G19<>"",1,IF(H19<>"",1,IF(L19<>"",1,IF(M19<>"",1,0)))))))) -> 0 | T19: =IF(OR(C19="",E19="",M19="",F19="",G19="",L19="",H19="",N19=""),1,0) -> 1 | U19: =IF(AND(S19=1,T19=1),1,0) -> 0
B20: 11 | O20: =IF($C20<>"",'Home Page'!$C$14,"") | P20: =IF($C20<>"",'Home Page'!$C$15,"") | Q20: =IF($C20<>"",'Home Page'!$C$16,"") | R20: =IF(C20="Other",D20,I20) -> 0 | S20: =IF(C20<>"",1,IF(N20<>"",1,IF(E20<>"",1,IF(F20<>"",1,IF(G20<>"",1,IF(H20<>"",1,IF(L20<>"",1,IF(M20<>"",1,0)))))))) -> 0 | T20: =IF(OR(C20="",E20="",M20="",F20="",G20="",L20="",H20="",N20=""),1,0) -> 1 | U20: =IF(AND(S20=1,T20=1),1,0) -> 0
B21: 12 | O21: =IF($C21<>"",'Home Page'!$C$14,"") | P21: =IF($C21<>"",'Home Page'!$C$15,"") | Q21: =IF($C21<>"",'Home Page'!$C$16,"") | R21: =IF(C21="Other",D21,I21) -> 0 | S21: =IF(C21<>"",1,IF(N21<>"",1,IF(E21<>"",1,IF(F21<>"",1,IF(G21<>"",1,IF(H21<>"",1,IF(L21<>"",1,IF(M21<>"",1,0)))))))) -> 0 | T21: =IF(OR(C21="",E21="",M21="",F21="",G21="",L21="",H21="",N21=""),1,0) -> 1 | U21: =IF(AND(S21=1,T21=1),1,0) -> 0
... B209: 200 | O209: =IF($C209<>"",'Home Page'!$C$14,"") | P209: =IF($C209<>"",'Home Page'!$C$15,"") | Q209: =IF($C209<>"",'Home Page'!$C$16,"") | R209: =IF(C209="Other",D209,I209) -> 0 | S209: =IF(C209<>"",1,IF(N209<>"",1,IF(E209<>"",1,IF(F209<>"",1,IF(G209<>"",1,IF(H209<>"",1,IF(L209<>"",1,IF(M209<>"",1,0)))))))) -> 0 | T209: =IF(OR(C209="",E209="",M209="",F209="",G209="",L209="",H209="",N209=""),1,0) -> 1 | U209: =IF(AND(S209=1,T209=1),1,0) -> 0

Sheet Reference
A1: Organisations | C1: Region | D1: Governing Organisation | E1: Partner Organisations | G1: Function category | J1: Unique suppliers
A2: Arms Length Body | C2: East of England (Y61) | D2: NHS BEDFORDSHIRE, LUTON AND MILTON KEYNES INTEGRATED CARE BOARD (QHG) | E2: Bedford Borough Council (625) | G2: Specialisms (Clinical specialties, Pharmacy, Radiology, Pathology, Adult Social Care) | J2: OTHER
A3: Commissioning Support Unit | C3: East of England (Y61) | D3: NHS BEDFORDSHIRE, LUTON AND MILTON KEYNES INTEGRATED CARE BOARD (QHG) | E3: Central Bedfordshire Council (626) | G3: Staffing (e.g. rostering, payroll)
A4: Genomics | C4: East of England (Y61) | D4: NHS BEDFORDSHIRE, LUTON AND MILTON KEYNES INTEGRATED CARE BOARD (QHG) | E4: Luton Borough Council (611) | G4: Infrastructure (e.g. facilities inc. catering, cleaning, sterilisation, accommodation, transport) | J4: 101 DATA SOLUTIONS
A5: Independent Providers designated as OES | C5: East of England (Y61) | D5: NHS BEDFORDSHIRE, LUTON AND MILTON KEYNES INTEGRATED CARE BOARD (QHG) | E5: Milton Keynes Council (613) | G5: Information Technology (e.g. Support desk, hardware, routers, networks, virtual desktop environment) | J5: 10TO8 LTD
A6: Integrated Care Board | C6: East of England (Y61) | D6: NHS BEDFORDSHIRE, LUTON AND MILTON KEYNES INTEGRATED CARE BOARD (QHG) | E6: Buckinghamshire Council (916) | G6: Commercial/procurement/legal | J6: 247 TIME
A7: NHS Trust | C7: East of England (Y61) | D7: NHS BEDFORDSHIRE, LUTON AND MILTON KEYNES INTEGRATED CARE BOARD (QHG) | E7: Bedfordshire Hospitals NHS Foundation Trust (RC9) | G7: Communications | J7: 2IC LIMITED
A8: Other | C8: East of England (Y61) | D8: NHS BEDFORDSHIRE, LUTON AND MILTON KEYNES INTEGRATED CARE BOARD (QHG) | E8: Milton Keynes University Hospital NHS Foundation Trust (RD8) | G8: Other | J8: 2ITESTING (SCOTLAND)
C9: East of England (Y61) | D9: NHS BEDFORDSHIRE, LUTON AND MILTON KEYNES INTEGRATED CARE BOARD (QHG) | E9: Cambridgeshire Community Services NHS Trust (RYV) | J9: 2SN HEALTHCARE LTD (C1M0P)
C10: East of England (Y61) | D10: NHS BEDFORDSHIRE, LUTON AND MILTON KEYNES INTEGRATED CARE BOARD (QHG) | E10: Central and North West London NHS Foundation Trust (RV3) | J10: 31G LTD
C11: East of England (Y61) | D11: NHS BEDFORDSHIRE, LUTON AND MILTON KEYNES INTEGRATED CARE BOARD (QHG) | E11: East of England Ambulance Service NHS Trust (RYC) | J11: 360 ORTHODONTICS LIMITED
C12: East of England (Y61) | D12: NHS BEDFORDSHIRE, LUTON AND MILTON KEYNES INTEGRATED CARE BOARD (QHG) | E12: East London NHS Foundation Trust (RWK) | J12: 365 HEALTHCARE LTD
C13: East of England (Y61) | D13: NHS BEDFORDSHIRE, LUTON AND MILTON KEYNES INTEGRATED CARE BOARD (QHG) | E13: South Central Ambulance Service NHS Foundation Trust (RYE) | J13: 3C TECHNOLOGY
C14: East of England (Y61) | D14: NHS BEDFORDSHIRE, LUTON AND MILTON KEYNES INTEGRATED CARE BOARD (QHG) | E14: NHS BEDFORDSHIRE, LUTON AND MILTON KEYNES INTEGRATED CARE BOARD (QHG) | J14: 3D-SIDE (BELGIUM)
C15: East of England (Y61) | D15: NHS BEDFORDSHIRE, LUTON AND MILTON KEYNES INTEGRATED CARE BOARD (QHG) | E15: Other | J15: 3M SECURITY PRINTING AND SYSTEMS LIMITED
C16: East of England (Y61) | D16: NHS CAMBRIDGESHIRE AND PETERBOROUGH INTEGRATED CARE BOARD (QUE) | E16: Cambridgeshire County Council (623) | J16: 3M UNITED KINGDOM PUBLIC LIMITED COMPANY
C17: East of England (Y61) | D17: NHS CAMBRIDGESHIRE AND PETERBOROUGH INTEGRATED CARE BOARD (QUE) | E17: Peterborough City Council (624) | J17: 3TC SOFTWARE
C18: East of England (Y61) | D18: NHS CAMBRIDGESHIRE AND PETERBOROUGH INTEGRATED CARE BOARD (QUE) | E18: Hertfordshire County Council (606) | J18: 3VEREST
C19: East of England (Y61) | D19: NHS CAMBRIDGESHIRE AND PETERBOROUGH INTEGRATED CARE BOARD (QUE) | E19: Cambridge University Hospitals NHS Foundation Trust (RGT) | J19: 4 WAYS HEALTHCARE LIMITED
C20: East of England (Y61) | D20: NHS CAMBRIDGESHIRE AND PETERBOROUGH INTEGRATED CARE BOARD (QUE) | E20: Cambridgeshire and Peterborough NHS Foundation Trust (RT1) | J20: 4IMPRINT DIRECT
... C551: South West (Y58) | D551: Other | E551: Other | J551: CARELOOP HEALTH LTD
J552: CAREMEDS LTD (8HX63)
J553: CAREMOTIVE
J554: CAREPARTNERS GROUP
J555: CAREPLANNER
J556: CARESAAS TECHNOLOGIES LIMITED
J557: CARESCAN LTD
J558: CARESHIELD
J559: CARESHOP
J560: CARESTREAM DENTAL LTD
J561: CARETRACK
J562: CAREZAPP
J563: CARING FOR CARE
... J1184: FOCUS 4 U (TRADING AS FOCUS GROUP)
J1185: FOCUS GROUP | K1185: {=IFERROR(_xlfn.UNIQUE(_xlfn._xlws.FILTER(#REF!,#REF!=J1187)),"")}
J1186: FOLDING SPACE
J1187: FOODCARE SYSTEMS LTD
J1188: FOOTFALL
J1189: FOOTWORK SOLUTIONS (PLYMOUTH)
J1190: FORA HEALTH LTD
...

Sheet Calculations
F1: Business support | G1: Healthcare services/specialisms | H1: Information technology | I1: Infrastructure | J1: Retail | K1: Staffing | L1: Other
F2: Commercial | G2: Access to patient records | H2: Data Centre | I2: Catering | J2: Tracking products purchased | K2: Staff renumeration | L2: Other
F3: Communications | G3: Accident and emergency | H3: Hardware | I3: Cleaning | J3: Other | K3: Staff training
F4: Complaints management | G4: Maternity services | H4: Networks | I4: Entertainment | K4: Arranging staffing and cover
F5: Other | G5: Pathology | H5: Software | I5: Sterilisation | K5: Other
G6: Pharmacy | H6: Other | I6: Other
G7: Radiology
G8: Other

Sheet Scoring table
A2: Data Classification | B2: Score | E2: Volume of Data | F2: Score | G2: Data Access | H2: Score | I2: Data Hosting | J2: Score | L2: Data Availability | M2: Score | P2: Data Classification | Q2: Score | S2: 0-100
A3: Top Secret | B3: 100 | E3: <10,000 | F3: 20 | G3: Yes – Standard account access | H3: 50 | I3: HSC hosted | J3: 0 | L3: High | M3: 80 | P3: Publicly available information | Q3: 10
A4: Secret | B4: 80 | E4: 10,000 – 1 million | F4: 40 | G4: Yes – Test or development access | H4: 70 | I4: Hosted within third-party's environment | J4: 60 | L4: Moderate | M4: 40 | P4: Synthetic (test) data | Q4: 15
A5: Official Sensitive | B5: 50 | E5: 1 million – 5 million | F5: 60 | G5: Yes – System administration & Maintenance | H5: 100 | I5: Hosted within third-party's subcontractor environment | J5: 80 | L5: Low | M5: 10 | P5: Aggregate data | Q5: 60
A6: Official Sensitive – Personal | B6: 70 | E6: >5 million | F6: 100 | G6: Yes – Standard physical access to HSC premise(s) | H6: 50 | I6: Score | P6: Personal data (PID) | Q6: 90
A7: Official Sensitive – Commercial | B7: 50 | G7: Yes – Privileged physical access to HSC premise(s) | H7: 90 | P7: Anonymised data | Q7: 50
A8: Official | B8: 20 | G8: None of the above | H8: 10 | P8: Pseudonymised data | Q8: 50
P9: Patient data | Q9: 100
P10: Professional user account data | Q10: 70
P11: Audit data | Q11: 80
A18: Score | B18: #REF! | E18: Score | F18: #REF! | G18: Score | H18: #REF! | I18: Score | J18: #REF! | L18: Score | M18: #REF!
A21: Total Score | B21: =B18+F18+H18+J18+M18 -> #REF!
