Workbook
Name _Toc217116100: Instructions!#REF!
Name _Toc328044298: Instructions!#REF!
Name Categories: Lists!$A$2:$A$16
Name Collections: Lists!$A$34:$A$42
Name Freq: Lists!$A$20:$A$29
Name Frequency: Lists!$A$20:$B$29
Name Grades: PayScales!$B$3:$B$159
Name OrgType: Lists!$A$46:$A$57
Name Rates: PayScales!$B$3:$H$159
Name StaffCosts: 'Staff costs'!$A$3:$M$1048576

Sheet Instructions
A6: Data collection - cost assessment
A7: Data provider burden consultation form
A9: This spreadsheet should be used by organisations to provide feedback on the burden associated with a data collection. Burden assessment is an integral part of the assurance process used by the Data Coordination Board, which is the national approvals body for data collections.
A10: You are invited to provide an estimate of your organisation's total costs associated with meeting the requirements of the data collection. These costs should be allocated against the process categories listed below.
A11: If you have any questions about this tool, or how to assess costs, please contact standards.assurance@nhs.net
A13: Instructions for use
A14: Assessing costs
A15: Staff and non-staff costs should be attributed to one of the following cost categories:
A16: ● | B16: System change and development | C16: The creation of, or changes to, information systems in order to meet the requirements of a data collection or proposed change.
A17: ● | B17: Design, scope, general management, and administration | C17: The work undertaken in design, scoping, and general management of the data collection, or a proposed change.
A18: ● | B18: Training and guidance | C18: The cost and effort involved in the provision and receipt of the knowledge and skills needed to be able to comply with the requirements of the data collection or a change proposal.
A19: ● | B19: Gathering | C19: The cost and effort required to obtain and record data for the purpose of fulfilling the data collection or proposed change(s).
A20: ● | B20: Data quality and validation | C20: The cost and effort involved in checking for and correcting errors in data that have or will be gathered for the sole purpose of meeting the requirements of the data collection or proposed change(s).
A21: ● | B21: Extraction | C21: The cost and effort involved in drawing data directly from one or more information system(s) for the purpose of meeting the requirements of the data collection or proposed change(s).
A22: ● | B22: Transcription | C22: The cost and effort involved in manually re-recording or re-entering data in a different format to that in which it was originally gathered, in order to meet the requirements of the proposed change(s) to a data collection.
A23: ● | B23: Transformation | C23: The cost and effort involved in changing data from one format to another to meet the requirements of the proposed change(s) to a data collection.
A24: ● | B24: Transmission | C24: The cost and effort involved in the sending of data to the data requester as a consequence of the data collection or proposed change(s).
B25: Storage | C25: The cost and effort required to physically or electronically hold data or information, in order to meet the requirements of the data collection or proposed change(s) and any associated information governance rules.
A26: ● | B26: Analysis and interpretation | C26: The cost and effort involved in the manipulation and understanding of data to produce information, where the output is needed to comply with the data collection or proposed change(s) to a data collection.
A27: ● | B27: Publication | C27: The cost and effort required by the provider to make data and information externally available, where this is a requirement of the proposed change(s) to a data collection.
A28: ● | B28: Consumption: | C28: The cost and effort involved in accessing the data and information outputs from a data collection.
A29: ● | B29: Destruction of data | C29: The cost and effort involved in the physical or electronic disposal of data or information to meet the requirements of the data collection or proposed change(s).
A30: ● | B30: Decommissioning | C30: Removing, reconfiguring, or otherwise changing the infrastructure that has been put in place to meet the requirements of the data collection.
A32: Completing this form
A33: Data should be entered into white cells only. Within the two cost sheets, columns containing grey cells are automatically populated based on the data entered into white cells in the same row.
A34: The 'Cost summary' sheet is automatically populated based on the data entered into the 'Staff costs' and 'Non-staff costs' sheets.
A35: Assessment details
A36: 1 | B36: The name of the organisation as well as a contact name and email address for the individual completing the assessment should be provided in the 'Assessment details' tab.
A37: 2 | B37: This tool should be used to assess a single data collection only.
A39: Staff costs
A40: 1. | B40: Staff costs should be entered into the 'Staff costs' sheet. All relevant columns containing white cells must be completed in order for the value to be included in the 'Cost summary' sheet.
A41: 2. | B41: Once you have identified an activity that will need to be carried out as a result of the data collection, it must be attributed to one of the categories listed above. These can be selected from the first column in the 'Staff costs' sheet.
A42: 3. | B42: A very brief description of the specific activity being completed should be added in the 'Activity' column.
A43: 4. | B43: If known, the pay grade of the individual(s) undertaking the task should be selected from the drop down list. If you are unsure of the pay grade, there is the option in the list to provide an estimate to the nearest £1000.
A44: 5. | B44: Enter the number of days, hours, and minutes spent on this specific activity, in the 'Days', 'Hours', and 'Minutes' columns. Note that further guidance on completing these fields can be found at the top of the 'Days' column.
A45: 6. | B45: This tool calculates the annual costs of the data collection. To ensure this is calculated correctly you must state how frequently an activity is completed. The annual cost of an activity is presented in the final column in the 'Staff costs' tab.
A47: Non-staff costs
A48: 1. | B48: Non staff costs should be entered into the 'Non-staff costs' column. All relevant columns must be completed in order for the value to be included in the 'Cost summary' sheet.
A49: 2. | B49: Once you have identified an activity or item that your organisation will need to pay for as a result of the data collection, it must be attributed to one of the categories listed above. These can be selected from the first column in the 'Non-staff costs' tab.
A50: 3. | B50: A very brief description of the cost being incurred should be added in the 'Activity/ item' column.
...

Sheet Assessment details
A1: Overview
A2: Data collection | B2: Data Security and Protection Toolkit
A3: Organisation name
A4: Contact name
A5: Organisation type
A6: Contact email
A7: Are you happy for us to contact you in relation to this submission? | B7: Yes/ No [delete as appropriate]
A10: By completing this burden assessment you agree that we will process your data: • for the purpose of providing the Data Coordination Board with an indicative costs estimate of the collection you have been asked to provide feedback on • and in line with NHS Digital's privacy policy. Your data will be treated confidentially and only used by NHS Digital for the purpose specified above. We will store any personal data for a period of 6 months following approval by the Data Coordination Board. After that point, all personal elements will be deleted. If you have any questions, please contact standards.assurance@nhs.net

Sheet Staff costs
A1: Staff costs
A3: Category (Select from drop down list) | B3: Activity (provide a very brief description of the specific activity being completed) | C3: Pay Grade (Select from drop down list) | D3: Pay Scheme | E3: Clinical / Non Clinical | F3: How frequently is this activity completed? (Select from drop down list) | G3: Days | H3: Hours | I3: Minutes | J3: Day cost | K3: Hour cost | L3: Minute cost | M3: Annual cost | O3: Days per year | P3: Hours as minutes | Q3: Minutes per year | R3: Annual Total minutes
J4: =IF(C4="",0,(G4*(VLOOKUP(C4,Rates,5,FALSE)))*(VLOOKUP(F4,Frequency,2,FALSE))) -> 0 | K4: =IF(C4="",0,(H4*(VLOOKUP(C4,Rates,6,FALSE)))*(VLOOKUP(F4,Frequency,2,FALSE))) -> 0 | L4: =IF(C4="",0,(I4*(VLOOKUP(C4,Rates,7,FALSE)))*(VLOOKUP(F4,Frequency,2,FALSE))) -> 0 | M4: =SUM(J4:L4) -> 0 | O4: =IF($C4="",0,G4*(VLOOKUP($F4,Frequency,2,FALSE))) -> 0 | P4: =IF($C4="",0,H4*(VLOOKUP($F4,Frequency,2,FALSE))) -> 0 | Q4: =IF($C4="",0,I4*(VLOOKUP($F4,Frequency,2,FALSE))) -> 0 | R4: =((O4*7.5)*60)+(P4*60)+Q4 -> 0
D5: =IF(C5="","",VLOOKUP(C5,PayScales!B:C,2,0)) | J5: =IF(C5="",0,(G5*(VLOOKUP(C5,Rates,5,FALSE)))*(VLOOKUP(F5,Frequency,2,FALSE))) -> 0 | K5: =IF(C5="",0,(H5*(VLOOKUP(C5,Rates,6,FALSE)))*(VLOOKUP(F5,Frequency,2,FALSE))) -> 0 | L5: =IF(C5="",0,(I5*(VLOOKUP(C5,Rates,7,FALSE)))*(VLOOKUP(F5,Frequency,2,FALSE))) -> 0 | M5: =SUM(J5:L5) -> 0 | O5: =IF($C5="",0,G5*(VLOOKUP($F5,Frequency,2,FALSE))) -> 0 | P5: =IF($C5="",0,H5*(VLOOKUP($F5,Frequency,2,FALSE))) -> 0 | Q5: =IF($C5="",0,I5*(VLOOKUP($F5,Frequency,2,FALSE))) -> 0 | R5: =((O5*7.5)*60)+(P5*60)+Q5 -> 0
D6: =IF(C6="","",VLOOKUP(C6,PayScales!B:C,2,0)) | J6: =IF(C6="",0,(G6*(VLOOKUP(C6,Rates,5,FALSE)))*(VLOOKUP(F6,Frequency,2,FALSE))) -> 0 | K6: =IF(C6="",0,(H6*(VLOOKUP(C6,Rates,6,FALSE)))*(VLOOKUP(F6,Frequency,2,FALSE))) -> 0 | L6: =IF(C6="",0,(I6*(VLOOKUP(C6,Rates,7,FALSE)))*(VLOOKUP(F6,Frequency,2,FALSE))) -> 0 | M6: =SUM(J6:L6) -> 0 | O6: =IF($C6="",0,G6*(VLOOKUP($F6,Frequency,2,FALSE))) -> 0 | P6: =IF($C6="",0,H6*(VLOOKUP($F6,Frequency,2,FALSE))) -> 0 | Q6: =IF($C6="",0,I6*(VLOOKUP($F6,Frequency,2,FALSE))) -> 0 | R6: =((O6*7.5)*60)+(P6*60)+Q6 -> 0
D7: =IF(C7="","",VLOOKUP(C7,PayScales!B:C,2,0)) | J7: =IF(C7="",0,(G7*(VLOOKUP(C7,Rates,5,FALSE)))*(VLOOKUP(F7,Frequency,2,FALSE))) -> 0 | K7: =IF(C7="",0,(H7*(VLOOKUP(C7,Rates,6,FALSE)))*(VLOOKUP(F7,Frequency,2,FALSE))) -> 0 | L7: =IF(C7="",0,(I7*(VLOOKUP(C7,Rates,7,FALSE)))*(VLOOKUP(F7,Frequency,2,FALSE))) -> 0 | M7: =SUM(J7:L7) -> 0 | O7: =IF($C7="",0,G7*(VLOOKUP($F7,Frequency,2,FALSE))) -> 0 | P7: =IF($C7="",0,H7*(VLOOKUP($F7,Frequency,2,FALSE))) -> 0 | Q7: =IF($C7="",0,I7*(VLOOKUP($F7,Frequency,2,FALSE))) -> 0 | R7: =((O7*7.5)*60)+(P7*60)+Q7 -> 0
D8: =IF(C8="","",VLOOKUP(C8,PayScales!B:C,2,0)) | J8: =IF(C8="",0,(G8*(VLOOKUP(C8,Rates,5,FALSE)))*(VLOOKUP(F8,Frequency,2,FALSE))) -> 0 | K8: =IF(C8="",0,(H8*(VLOOKUP(C8,Rates,6,FALSE)))*(VLOOKUP(F8,Frequency,2,FALSE))) -> 0 | L8: =IF(C8="",0,(I8*(VLOOKUP(C8,Rates,7,FALSE)))*(VLOOKUP(F8,Frequency,2,FALSE))) -> 0 | M8: =SUM(J8:L8) -> 0 | O8: =IF($C8="",0,G8*(VLOOKUP($F8,Frequency,2,FALSE))) -> 0 | P8: =IF($C8="",0,H8*(VLOOKUP($F8,Frequency,2,FALSE))) -> 0 | Q8: =IF($C8="",0,I8*(VLOOKUP($F8,Frequency,2,FALSE))) -> 0 | R8: =((O8*7.5)*60)+(P8*60)+Q8 -> 0
D9: =IF(C9="","",VLOOKUP(C9,PayScales!B:C,2,0)) | J9: =IF(C9="",0,(G9*(VLOOKUP(C9,Rates,5,FALSE)))*(VLOOKUP(F9,Frequency,2,FALSE))) -> 0 | K9: =IF(C9="",0,(H9*(VLOOKUP(C9,Rates,6,FALSE)))*(VLOOKUP(F9,Frequency,2,FALSE))) -> 0 | L9: =IF(C9="",0,(I9*(VLOOKUP(C9,Rates,7,FALSE)))*(VLOOKUP(F9,Frequency,2,FALSE))) -> 0 | M9: =SUM(J9:L9) -> 0 | O9: =IF($C9="",0,G9*(VLOOKUP($F9,Frequency,2,FALSE))) -> 0 | P9: =IF($C9="",0,H9*(VLOOKUP($F9,Frequency,2,FALSE))) -> 0 | Q9: =IF($C9="",0,I9*(VLOOKUP($F9,Frequency,2,FALSE))) -> 0 | R9: =((O9*7.5)*60)+(P9*60)+Q9 -> 0
D10: =IF(C10="","",VLOOKUP(C10,PayScales!B:C,2,0)) | J10: =IF(C10="",0,(G10*(VLOOKUP(C10,Rates,5,FALSE)))*(VLOOKUP(F10,Frequency,2,FALSE))) -> 0 | K10: =IF(C10="",0,(H10*(VLOOKUP(C10,Rates,6,FALSE)))*(VLOOKUP(F10,Frequency,2,FALSE))) -> 0 | L10: =IF(C10="",0,(I10*(VLOOKUP(C10,Rates,7,FALSE)))*(VLOOKUP(F10,Frequency,2,FALSE))) -> 0 | M10: =SUM(J10:L10) -> 0 | O10: =IF($C10="",0,G10*(VLOOKUP($F10,Frequency,2,FALSE))) -> 0 | P10: =IF($C10="",0,H10*(VLOOKUP($F10,Frequency,2,FALSE))) -> 0 | Q10: =IF($C10="",0,I10*(VLOOKUP($F10,Frequency,2,FALSE))) -> 0 | R10: =((O10*7.5)*60)+(P10*60)+Q10 -> 0
D11: =IF(C11="","",VLOOKUP(C11,PayScales!B:C,2,0)) | J11: =IF(C11="",0,(G11*(VLOOKUP(C11,Rates,5,FALSE)))*(VLOOKUP(F11,Frequency,2,FALSE))) -> 0 | K11: =IF(C11="",0,(H11*(VLOOKUP(C11,Rates,6,FALSE)))*(VLOOKUP(F11,Frequency,2,FALSE))) -> 0 | L11: =IF(C11="",0,(I11*(VLOOKUP(C11,Rates,7,FALSE)))*(VLOOKUP(F11,Frequency,2,FALSE))) -> 0 | M11: =SUM(J11:L11) -> 0 | O11: =IF($C11="",0,G11*(VLOOKUP($F11,Frequency,2,FALSE))) -> 0 | P11: =IF($C11="",0,H11*(VLOOKUP($F11,Frequency,2,FALSE))) -> 0 | Q11: =IF($C11="",0,I11*(VLOOKUP($F11,Frequency,2,FALSE))) -> 0 | R11: =((O11*7.5)*60)+(P11*60)+Q11 -> 0
D12: =IF(C12="","",VLOOKUP(C12,PayScales!B:C,2,0)) | J12: =IF(C12="",0,(G12*(VLOOKUP(C12,Rates,5,FALSE)))*(VLOOKUP(F12,Frequency,2,FALSE))) -> 0 | K12: =IF(C12="",0,(H12*(VLOOKUP(C12,Rates,6,FALSE)))*(VLOOKUP(F12,Frequency,2,FALSE))) -> 0 | L12: =IF(C12="",0,(I12*(VLOOKUP(C12,Rates,7,FALSE)))*(VLOOKUP(F12,Frequency,2,FALSE))) -> 0 | M12: =SUM(J12:L12) -> 0 | O12: =IF($C12="",0,G12*(VLOOKUP($F12,Frequency,2,FALSE))) -> 0 | P12: =IF($C12="",0,H12*(VLOOKUP($F12,Frequency,2,FALSE))) -> 0 | Q12: =IF($C12="",0,I12*(VLOOKUP($F12,Frequency,2,FALSE))) -> 0 | R12: =((O12*7.5)*60)+(P12*60)+Q12 -> 0
D13: =IF(C13="","",VLOOKUP(C13,PayScales!B:C,2,0)) | J13: =IF(C13="",0,(G13*(VLOOKUP(C13,Rates,5,FALSE)))*(VLOOKUP(F13,Frequency,2,FALSE))) -> 0 | K13: =IF(C13="",0,(H13*(VLOOKUP(C13,Rates,6,FALSE)))*(VLOOKUP(F13,Frequency,2,FALSE))) -> 0 | L13: =IF(C13="",0,(I13*(VLOOKUP(C13,Rates,7,FALSE)))*(VLOOKUP(F13,Frequency,2,FALSE))) -> 0 | M13: =SUM(J13:L13) -> 0 | O13: =IF($C13="",0,G13*(VLOOKUP($F13,Frequency,2,FALSE))) -> 0 | P13: =IF($C13="",0,H13*(VLOOKUP($F13,Frequency,2,FALSE))) -> 0 | Q13: =IF($C13="",0,I13*(VLOOKUP($F13,Frequency,2,FALSE))) -> 0 | R13: =((O13*7.5)*60)+(P13*60)+Q13 -> 0
D14: =IF(C14="","",VLOOKUP(C14,PayScales!B:C,2,0)) | J14: =IF(C14="",0,(G14*(VLOOKUP(C14,Rates,5,FALSE)))*(VLOOKUP(F14,Frequency,2,FALSE))) -> 0 | K14: =IF(C14="",0,(H14*(VLOOKUP(C14,Rates,6,FALSE)))*(VLOOKUP(F14,Frequency,2,FALSE))) -> 0 | L14: =IF(C14="",0,(I14*(VLOOKUP(C14,Rates,7,FALSE)))*(VLOOKUP(F14,Frequency,2,FALSE))) -> 0 | M14: =SUM(J14:L14) -> 0 | O14: =IF($C14="",0,G14*(VLOOKUP($F14,Frequency,2,FALSE))) -> 0 | P14: =IF($C14="",0,H14*(VLOOKUP($F14,Frequency,2,FALSE))) -> 0 | Q14: =IF($C14="",0,I14*(VLOOKUP($F14,Frequency,2,FALSE))) -> 0 | R14: =((O14*7.5)*60)+(P14*60)+Q14 -> 0
D15: =IF(C15="","",VLOOKUP(C15,PayScales!B:C,2,0)) | J15: =IF(C15="",0,(G15*(VLOOKUP(C15,Rates,5,FALSE)))*(VLOOKUP(F15,Frequency,2,FALSE))) -> 0 | K15: =IF(C15="",0,(H15*(VLOOKUP(C15,Rates,6,FALSE)))*(VLOOKUP(F15,Frequency,2,FALSE))) -> 0 | L15: =IF(C15="",0,(I15*(VLOOKUP(C15,Rates,7,FALSE)))*(VLOOKUP(F15,Frequency,2,FALSE))) -> 0 | M15: =SUM(J15:L15) -> 0 | O15: =IF($C15="",0,G15*(VLOOKUP($F15,Frequency,2,FALSE))) -> 0 | P15: =IF($C15="",0,H15*(VLOOKUP($F15,Frequency,2,FALSE))) -> 0 | Q15: =IF($C15="",0,I15*(VLOOKUP($F15,Frequency,2,FALSE))) -> 0 | R15: =((O15*7.5)*60)+(P15*60)+Q15 -> 0
D16: =IF(C16="","",VLOOKUP(C16,PayScales!B:C,2,0)) | J16: =IF(C16="",0,(G16*(VLOOKUP(C16,Rates,5,FALSE)))*(VLOOKUP(F16,Frequency,2,FALSE))) -> 0 | K16: =IF(C16="",0,(H16*(VLOOKUP(C16,Rates,6,FALSE)))*(VLOOKUP(F16,Frequency,2,FALSE))) -> 0 | L16: =IF(C16="",0,(I16*(VLOOKUP(C16,Rates,7,FALSE)))*(VLOOKUP(F16,Frequency,2,FALSE))) -> 0 | M16: =SUM(J16:L16) -> 0 | O16: =IF($C16="",0,G16*(VLOOKUP($F16,Frequency,2,FALSE))) -> 0 | P16: =IF($C16="",0,H16*(VLOOKUP($F16,Frequency,2,FALSE))) -> 0 | Q16: =IF($C16="",0,I16*(VLOOKUP($F16,Frequency,2,FALSE))) -> 0 | R16: =((O16*7.5)*60)+(P16*60)+Q16 -> 0
... D1000: =IF(C1000="","",VLOOKUP(C1000,PayScales!B:C,2,0)) | J1000: =IF(C1000="",0,(G1000*(VLOOKUP(C1000,Rates,5,FALSE)))*(VLOOKUP(F1000,Frequency,2,FALSE))) -> 0 | K1000: =IF(C1000="",0,(H1000*(VLOOKUP(C1000,Rates,6,FALSE)))*(VLOOKUP(F1000,Frequency,2,FALSE))) -> 0 | L1000: =IF(C1000="",0,(I1000*(VLOOKUP(C1000,Rates,7,FALSE)))*(VLOOKUP(F1000,Frequency,2,FALSE))) -> 0 | M1000: =SUM(J1000:L1000) -> 0 | O1000: =IF($C1000="",0,G1000*(VLOOKUP($F1000,Frequency,2,FALSE))) -> 0 | P1000: =IF($C1000="",0,H1000*(VLOOKUP($F1000,Frequency,2,FALSE))) -> 0 | Q1000: =IF($C1000="",0,I1000*(VLOOKUP($F1000,Frequency,2,FALSE))) -> 0 | R1000: =((O1000*7.5)*60)+(P1000*60)+Q1000 -> 0

Sheet Non-staff costs
A1: Non-staff costs
A3: Category | B3: Activity/item (provide a very brief description of the cost being incurred) | C3: Cost | D3: How frequently is this cost incurred? | E3: Annual cost
E4: =IF(C4="","",(C4*(VLOOKUP(D4,Frequency,2,FALSE))))
E5: =IF(C5="","",(C5*(VLOOKUP(D5,Frequency,2,FALSE))))
E6: =IF(C6="","",(C6*(VLOOKUP(D6,Frequency,2,FALSE))))
E7: =IF(C7="","",(C7*(VLOOKUP(D7,Frequency,2,FALSE))))
E8: =IF(C8="","",(C8*(VLOOKUP(D8,Frequency,2,FALSE))))
E9: =IF(C9="","",(C9*(VLOOKUP(D9,Frequency,2,FALSE))))
E10: =IF(C10="","",(C10*(VLOOKUP(D10,Frequency,2,FALSE))))
E11: =IF(C11="","",(C11*(VLOOKUP(D11,Frequency,2,FALSE))))
E12: =IF(C12="","",(C12*(VLOOKUP(D12,Frequency,2,FALSE))))
E13: =IF(C13="","",(C13*(VLOOKUP(D13,Frequency,2,FALSE))))
E14: =IF(C14="","",(C14*(VLOOKUP(D14,Frequency,2,FALSE))))
E15: =IF(C15="","",(C15*(VLOOKUP(D15,Frequency,2,FALSE))))
... E1000: =IF(C1000="","",(C1000*(VLOOKUP(D1000,Frequency,2,FALSE))))

Sheet Cost summary
A1: Annual cost summary
A3: The table below is automatically populated with annual costs, based on data entered into the 'Staff cost' and 'Non-staff' cost tabs. It cannot be edited.
B5: Clinical staff costs | C5: Non-clinical staff costs | D5: Non-staff costs | E5: Total staff costs | F5: Total staff and non-staff costs | H5: Clinical staff minutes | I5: Non-clinical staff minutes | J5: Total minutes
A6: System change and development | B6: =SUMIFS('Staff costs'!$M$4:$M$1000,'Staff costs'!E$4:E$1000,"Clinical",'Staff costs'!A$4:A$1000,A6) -> 0 | C6: =SUMIFS('Staff costs'!$M$4:$M$1000,'Staff costs'!E$4:E$1000,"Non-Clinical",'Staff costs'!A$4:A$1000,A6) -> 0 | D6: =SUMIFS('Non-staff costs'!E$4:E$1000,'Non-staff costs'!A$4:A$1000,A6) -> 0 | E6: =SUM(B6:C6) -> 0 | F6: =SUM(B6:D6) -> 0 | H6: =SUMIFS('Staff costs'!$R$4:$R$1000,'Staff costs'!E$4:E$1000,"Clinical",'Staff costs'!A$4:A$1000,A6) -> 0 | I6: =SUMIFS('Staff costs'!$R$4:$R$1000,'Staff costs'!E$4:E$1000,"non-Clinical",'Staff costs'!A$4:A$1000,A6) -> 0 | J6: =SUM(H6:I6) -> 0
A7: Design, scope, general management, and administration | B7: =SUMIFS('Staff costs'!$M$4:$M$1000,'Staff costs'!E$4:E$1000,"Clinical",'Staff costs'!A$4:A$1000,A7) -> 0 | C7: =SUMIFS('Staff costs'!$M$4:$M$1000,'Staff costs'!E$4:E$1000,"Non-Clinical",'Staff costs'!A$4:A$1000,A7) -> 0 | D7: =SUMIFS('Non-staff costs'!E$4:E$1000,'Non-staff costs'!A$4:A$1000,A7) -> 0 | E7: =SUM(B7:C7) -> 0 | F7: =SUM(B7:D7) -> 0 | H7: =SUMIFS('Staff costs'!$R$4:$R$1000,'Staff costs'!E$4:E$1000,"Clinical",'Staff costs'!A$4:A$1000,A7) -> 0 | I7: =SUMIFS('Staff costs'!$R$4:$R$1000,'Staff costs'!E$4:E$1000,"non-Clinical",'Staff costs'!A$4:A$1000,A7) -> 0 | J7: =SUM(H7:I7) -> 0
A8: Training and guidance | B8: =SUMIFS('Staff costs'!$M$4:$M$1000,'Staff costs'!E$4:E$1000,"Clinical",'Staff costs'!A$4:A$1000,A8) -> 0 | C8: =SUMIFS('Staff costs'!$M$4:$M$1000,'Staff costs'!E$4:E$1000,"Non-Clinical",'Staff costs'!A$4:A$1000,A8) -> 0 | D8: =SUMIFS('Non-staff costs'!E$4:E$1000,'Non-staff costs'!A$4:A$1000,A8) -> 0 | E8: =SUM(B8:C8) -> 0 | F8: =SUM(B8:D8) -> 0 | H8: =SUMIFS('Staff costs'!$R$4:$R$1000,'Staff costs'!E$4:E$1000,"Clinical",'Staff costs'!A$4:A$1000,A8) -> 0 | I8: =SUMIFS('Staff costs'!$R$4:$R$1000,'Staff costs'!E$4:E$1000,"non-Clinical",'Staff costs'!A$4:A$1000,A8) -> 0 | J8: =SUM(H8:I8) -> 0
A9: Gathering | B9: =SUMIFS('Staff costs'!$M$4:$M$1000,'Staff costs'!E$4:E$1000,"Clinical",'Staff costs'!A$4:A$1000,A9) -> 0 | C9: =SUMIFS('Staff costs'!$M$4:$M$1000,'Staff costs'!E$4:E$1000,"Non-Clinical",'Staff costs'!A$4:A$1000,A9) -> 0 | D9: =SUMIFS('Non-staff costs'!E$4:E$1000,'Non-staff costs'!A$4:A$1000,A9) -> 0 | E9: =SUM(B9:C9) -> 0 | F9: =SUM(B9:D9) -> 0 | H9: =SUMIFS('Staff costs'!$R$4:$R$1000,'Staff costs'!E$4:E$1000,"Clinical",'Staff costs'!A$4:A$1000,A9) -> 0 | I9: =SUMIFS('Staff costs'!$R$4:$R$1000,'Staff costs'!E$4:E$1000,"non-Clinical",'Staff costs'!A$4:A$1000,A9) -> 0 | J9: =SUM(H9:I9) -> 0
A10: Data quality and validation | B10: =SUMIFS('Staff costs'!$M$4:$M$1000,'Staff costs'!E$4:E$1000,"Clinical",'Staff costs'!A$4:A$1000,A10) -> 0 | C10: =SUMIFS('Staff costs'!$M$4:$M$1000,'Staff costs'!E$4:E$1000,"Non-Clinical",'Staff costs'!A$4:A$1000,A10) -> 0 | D10: =SUMIFS('Non-staff costs'!E$4:E$1000,'Non-staff costs'!A$4:A$1000,A10) -> 0 | E10: =SUM(B10:C10) -> 0 | F10: =SUM(B10:D10) -> 0 | H10: =SUMIFS('Staff costs'!$R$4:$R$1000,'Staff costs'!E$4:E$1000,"Clinical",'Staff costs'!A$4:A$1000,A10) -> 0 | I10: =SUMIFS('Staff costs'!$R$4:$R$1000,'Staff costs'!E$4:E$1000,"non-Clinical",'Staff costs'!A$4:A$1000,A10) -> 0 | J10: =SUM(H10:I10) -> 0
A11: Extraction | B11: =SUMIFS('Staff costs'!$M$4:$M$1000,'Staff costs'!E$4:E$1000,"Clinical",'Staff costs'!A$4:A$1000,A11) -> 0 | C11: =SUMIFS('Staff costs'!$M$4:$M$1000,'Staff costs'!E$4:E$1000,"Non-Clinical",'Staff costs'!A$4:A$1000,A11) -> 0 | D11: =SUMIFS('Non-staff costs'!E$4:E$1000,'Non-staff costs'!A$4:A$1000,A11) -> 0 | E11: =SUM(B11:C11) -> 0 | F11: =SUM(B11:D11) -> 0 | H11: =SUMIFS('Staff costs'!$R$4:$R$1000,'Staff costs'!E$4:E$1000,"Clinical",'Staff costs'!A$4:A$1000,A11) -> 0 | I11: =SUMIFS('Staff costs'!$R$4:$R$1000,'Staff costs'!E$4:E$1000,"non-Clinical",'Staff costs'!A$4:A$1000,A11) -> 0 | J11: =SUM(H11:I11) -> 0
A12: Transcription | B12: =SUMIFS('Staff costs'!$M$4:$M$1000,'Staff costs'!E$4:E$1000,"Clinical",'Staff costs'!A$4:A$1000,A12) -> 0 | C12: =SUMIFS('Staff costs'!$M$4:$M$1000,'Staff costs'!E$4:E$1000,"Non-Clinical",'Staff costs'!A$4:A$1000,A12) -> 0 | D12: =SUMIFS('Non-staff costs'!E$4:E$1000,'Non-staff costs'!A$4:A$1000,A12) -> 0 | E12: =SUM(B12:C12) -> 0 | F12: =SUM(B12:D12) -> 0 | H12: =SUMIFS('Staff costs'!$R$4:$R$1000,'Staff costs'!E$4:E$1000,"Clinical",'Staff costs'!A$4:A$1000,A12) -> 0 | I12: =SUMIFS('Staff costs'!$R$4:$R$1000,'Staff costs'!E$4:E$1000,"non-Clinical",'Staff costs'!A$4:A$1000,A12) -> 0 | J12: =SUM(H12:I12) -> 0
A13: Transformation | B13: =SUMIFS('Staff costs'!$M$4:$M$1000,'Staff costs'!E$4:E$1000,"Clinical",'Staff costs'!A$4:A$1000,A13) -> 0 | C13: =SUMIFS('Staff costs'!$M$4:$M$1000,'Staff costs'!E$4:E$1000,"Non-Clinical",'Staff costs'!A$4:A$1000,A13) -> 0 | D13: =SUMIFS('Non-staff costs'!E$4:E$1000,'Non-staff costs'!A$4:A$1000,A13) -> 0 | E13: =SUM(B13:C13) -> 0 | F13: =SUM(B13:D13) -> 0 | H13: =SUMIFS('Staff costs'!$R$4:$R$1000,'Staff costs'!E$4:E$1000,"Clinical",'Staff costs'!A$4:A$1000,A13) -> 0 | I13: =SUMIFS('Staff costs'!$R$4:$R$1000,'Staff costs'!E$4:E$1000,"non-Clinical",'Staff costs'!A$4:A$1000,A13) -> 0 | J13: =SUM(H13:I13) -> 0
A14: Transmission | B14: =SUMIFS('Staff costs'!$M$4:$M$1000,'Staff costs'!E$4:E$1000,"Clinical",'Staff costs'!A$4:A$1000,A14) -> 0 | C14: =SUMIFS('Staff costs'!$M$4:$M$1000,'Staff costs'!E$4:E$1000,"Non-Clinical",'Staff costs'!A$4:A$1000,A14) -> 0 | D14: =SUMIFS('Non-staff costs'!E$4:E$1000,'Non-staff costs'!A$4:A$1000,A14) -> 0 | E14: =SUM(B14:C14) -> 0 | F14: =SUM(B14:D14) -> 0 | H14: =SUMIFS('Staff costs'!$R$4:$R$1000,'Staff costs'!E$4:E$1000,"Clinical",'Staff costs'!A$4:A$1000,A14) -> 0 | I14: =SUMIFS('Staff costs'!$R$4:$R$1000,'Staff costs'!E$4:E$1000,"non-Clinical",'Staff costs'!A$4:A$1000,A14) -> 0 | J14: =SUM(H14:I14) -> 0
A15: Storage | B15: =SUMIFS('Staff costs'!$M$4:$M$1000,'Staff costs'!E$4:E$1000,"Clinical",'Staff costs'!A$4:A$1000,A15) -> 0 | C15: =SUMIFS('Staff costs'!$M$4:$M$1000,'Staff costs'!E$4:E$1000,"Non-Clinical",'Staff costs'!A$4:A$1000,A15) -> 0 | D15: =SUMIFS('Non-staff costs'!E$4:E$1000,'Non-staff costs'!A$4:A$1000,A15) -> 0 | E15: =SUM(B15:C15) -> 0 | F15: =SUM(B15:D15) -> 0 | H15: =SUMIFS('Staff costs'!$R$4:$R$1000,'Staff costs'!E$4:E$1000,"Clinical",'Staff costs'!A$4:A$1000,A15) -> 0 | I15: =SUMIFS('Staff costs'!$R$4:$R$1000,'Staff costs'!E$4:E$1000,"non-Clinical",'Staff costs'!A$4:A$1000,A15) -> 0 | J15: =SUM(H15:I15) -> 0
A16: Analysis and interpretation | B16: =SUMIFS('Staff costs'!$M$4:$M$1000,'Staff costs'!E$4:E$1000,"Clinical",'Staff costs'!A$4:A$1000,A16) -> 0 | C16: =SUMIFS('Staff costs'!$M$4:$M$1000,'Staff costs'!E$4:E$1000,"Non-Clinical",'Staff costs'!A$4:A$1000,A16) -> 0 | D16: =SUMIFS('Non-staff costs'!E$4:E$1000,'Non-staff costs'!A$4:A$1000,A16) -> 0 | E16: =SUM(B16:C16) -> 0 | F16: =SUM(B16:D16) -> 0 | H16: =SUMIFS('Staff costs'!$R$4:$R$1000,'Staff costs'!E$4:E$1000,"Clinical",'Staff costs'!A$4:A$1000,A16) -> 0 | I16: =SUMIFS('Staff costs'!$R$4:$R$1000,'Staff costs'!E$4:E$1000,"non-Clinical",'Staff costs'!A$4:A$1000,A16) -> 0 | J16: =SUM(H16:I16) -> 0
A17: Publication | B17: =SUMIFS('Staff costs'!$M$4:$M$1000,'Staff costs'!E$4:E$1000,"Clinical",'Staff costs'!A$4:A$1000,A17) -> 0 | C17: =SUMIFS('Staff costs'!$M$4:$M$1000,'Staff costs'!E$4:E$1000,"Non-Clinical",'Staff costs'!A$4:A$1000,A17) -> 0 | D17: =SUMIFS('Non-staff costs'!E$4:E$1000,'Non-staff costs'!A$4:A$1000,A17) -> 0 | E17: =SUM(B17:C17) -> 0 | F17: =SUM(B17:D17) -> 0 | H17: =SUMIFS('Staff costs'!$R$4:$R$1000,'Staff costs'!E$4:E$1000,"Clinical",'Staff costs'!A$4:A$1000,A17) -> 0 | I17: =SUMIFS('Staff costs'!$R$4:$R$1000,'Staff costs'!E$4:E$1000,"non-Clinical",'Staff costs'!A$4:A$1000,A17) -> 0 | J17: =SUM(H17:I17) -> 0
... A20: Decommissioning | B20: =SUMIFS('Staff costs'!$M$4:$M$1000,'Staff costs'!E$4:E$1000,"Clinical",'Staff costs'!A$4:A$1000,A20) -> 0 | C20: =SUMIFS('Staff costs'!$M$4:$M$1000,'Staff costs'!E$4:E$1000,"Non-Clinical",'Staff costs'!A$4:A$1000,A20) -> 0 | D20: =SUMIFS('Non-staff costs'!E$4:E$1000,'Non-staff costs'!A$4:A$1000,A20) -> 0 | E20: =SUM(B20:C20) -> 0 | F20: =SUM(B20:D20) -> 0 | H20: =SUMIFS('Staff costs'!$R$4:$R$1000,'Staff costs'!E$4:E$1000,"Clinical",'Staff costs'!A$4:A$1000,A20) -> 0 | I20: =SUMIFS('Staff costs'!$R$4:$R$1000,'Staff costs'!E$4:E$1000,"non-Clinical",'Staff costs'!A$4:A$1000,A20) -> 0 | J20: =SUM(H20:I20) -> 0
A22: =IF('Assessment details'!B3="","Not completed",'Assessment details'!B3) -> Not completed | B22: =SUM(B6:B20) -> 0 | C22: =SUM(C6:C20) -> 0 | D22: =SUM(D6:D20) -> 0 | E22: =SUM(E6:E20) -> 0 | F22: =SUM(F6:F20) -> 0 | H22: =SUM(H6:H20) -> 0 | I22: =SUM(I6:I20) -> 0 | J22: =SUM(J6:J20) -> 0

Sheet Lists
A1: Cost categories
A2: System change and development
A3: Design, scope, general management, and administration
A4: Training and guidance
A5: Gathering
A6: Data quality and validation
A7: Extraction
A8: Transcription
A9: Transformation
A10: Transmission
A11: Analysis and interpretation
A12: Publication
... A19: Collection frequency
A20: One-off | B20: 1
A21: Daily (Mon-Sun) | B21: 365
A22: Daily (Mon-Fri) | B22: 260 | C22: x5x52
A23: Twice-weekly | B23: 130
A24: Weekly | B24: 52
A25: Bi-weekly | B25: 26
A26: Monthly | B26: 12
A27: Quarterly | B27: 4
A28: Bi-annually | B28: 2
A29: Annually | B29: 1
A33: Collections
A34: ASC-FR
A35: ASCS
A36: DoLS
A37: DPA
A38: Guardianship
A39: Registered Blind
A40: SAC
A41: SACE
A42: SALT
A45: Organisation Type
A46: Acute trust
... A57: Mental health trust

Sheet PayScales
A1: Pay rates
A2: Pay scheme | B2: Grade | C2: Pay scheme (picklist) | D2: Annual salary mid-point | E2: Annual salary mid-point plus on costs1 | F2: Daily rate | G2: Hourly rate | H2: Minute rate
A3: Agenda for change | B3: AfC Band 2 | C3: =A3 -> Agenda for change | D3: 19337 | E3: =D3*1.3 -> 25138.1 | F3: =(E3/52)/5 -> 96.685 | G3: =F3/7.5 -> 12.891333 | H3: =G3/60 -> 0.21485556 | J3: To note - payscales based on 2018/19
A4: Agenda for change | B4: AfC Band 3 | C4: =A4 -> Agenda for change | D4: 21142 | E4: =D4*1.3 -> 27484.6 | F4: =(E4/52)/5 -> 105.71 | G4: =F4/7.5 -> 14.094667 | H4: =G4/60 -> 0.23491111
A5: Agenda for change | B5: AfC Band 4 | C5: =A5 -> Agenda for change | D5: 24157 | E5: =D5*1.3 -> 31404.1 | F5: =(E5/52)/5 -> 120.785 | G5: =F5/7.5 -> 16.104667 | H5: =G5/60 -> 0.26841111
A6: Agenda for change | B6: AfC Band 5 | C6: =A6 -> Agenda for change | D6: 27416 | E6: =D6*1.3 -> 35640.8 | F6: =(E6/52)/5 -> 137.08 | G6: =F6/7.5 -> 18.277333 | H6: =G6/60 -> 0.30462222
A7: Agenda for change | B7: AfC Band 6 | C7: =A7 -> Agenda for change | D7: 33176 | E7: =D7*1.3 -> 43128.8 | F7: =(E7/52)/5 -> 165.88 | G7: =F7/7.5 -> 22.117333 | H7: =G7/60 -> 0.36862222
A8: Agenda for change | B8: AfC Band 7 | C8: =A8 -> Agenda for change | D8: 40894 | E8: =D8*1.3 -> 53162.2 | F8: =(E8/52)/5 -> 204.47 | G8: =F8/7.5 -> 27.262667 | H8: =G8/60 -> 0.45437778
A9: Agenda for change | B9: AfC Band 8a | C9: =A9 -> Agenda for change | D9: 45753 | E9: =D9*1.3 -> 59478.9 | F9: =(E9/52)/5 -> 228.765 | G9: =F9/7.5 -> 30.502 | H9: =G9/60 -> 0.50836667
A10: Agenda for change | B10: AfC Band 8b | C10: =A10 -> Agenda for change | D10: 53168 | E10: =D10*1.3 -> 69118.4 | F10: =(E10/52)/5 -> 265.84 | G10: =F10/7.5 -> 35.445333 | H10: =G10/60 -> 0.59075556
A11: Agenda for change | B11: AfC Band 8c | C11: =A11 -> Agenda for change | D11: 63751 | E11: =D11*1.3 -> 82876.3 | F11: =(E11/52)/5 -> 318.755 | G11: =F11/7.5 -> 42.500667 | H11: =G11/60 -> 0.70834444
A12: Agenda for change | B12: AfC Band 8d | C12: =A12 -> Agenda for change | D12: 75914 | E12: =D12*1.3 -> 98688.2 | F12: =(E12/52)/5 -> 379.57 | G12: =F12/7.5 -> 50.609333 | H12: =G12/60 -> 0.84348889
A13: Agenda for change | B13: AfC Band 9 | C13: =A13 -> Agenda for change | D13: 91004 | E13: =D13*1.3 -> 118305.2 | F13: =(E13/52)/5 -> 455.02 | G13: =F13/7.5 -> 60.669333 | H13: =G13/60 -> 1.0111556
A14: Doctors | B14: Staff grade doctor | C14: =A14 -> Doctors | D14: 50473 | E14: =D14*1.3 -> 65614.9 | F14: =(E14/52)/5 -> 252.365 | G14: =F14/7.5 -> 33.648667 | H14: =G14/60 -> 0.56081111
A15: Doctors | B15: Non-salaried/partner GP | C15: =A15 -> Doctors | D15: 105000 | E15: =D15*1.3 -> 136500 | F15: =(E15/52)/5 -> 525 | G15: =F15/7.5 -> 70 | H15: =G15/60 -> 1.1666667
... A159: Other | B159: £100,000 per annum | C159: =A159 -> Other | D159: 100000 | E159: =D159*1.3 -> 130000 | F159: =(E159/52)/5 -> 500 | G159: =F159/7.5 -> 66.666667 | H159: =G159/60 -> 1.1111111
